Felt | Verdi |
AlreadyApplied | True |
Aperture | 5.6 |
ApertureValue | 5.6 |
AutoLateralCA | 0 |
AutoWhiteVersion | 134348800 |
BitsPerSample | 8 |
Blacks2012 | +14 |
BlueHue | 0 |
BlueSaturation | 0 |
BrightnessValue | 7.025 |
CameraProfile | Embedded |
CircleOfConfusion | 0.030 mm |
Clarity2012 | -12 |
ColorComponents | 3 |
ColorNoiseReduction | 0 |
ColorTransform | YCbCr |
Contrast | Normal |
Contrast2012 | +43 |
ConvertToGrayscale | False |
CreateDate | 2016:05:03 19:53:51 |
CreatorTool | Adobe Photoshop Lightroom 6.4 (Windows) |
CustomRendered | Normal |
DateCreated (1) | 2016:05:03 |
DateCreated | 2016:05:03 19:53:51 |
DateTimeOriginal | 2016:05:03 19:53:51 |
DefringeGreenAmount | 0 |
DefringeGreenHueHi | 60 |
DefringeGreenHueLo | 40 |
DefringePurpleAmount | 0 |
DefringePurpleHueHi | 70 |
DefringePurpleHueLo | 30 |
Dehaze | 0 |
DigitalZoomRatio | 1 |
Exposure2012 | 0.00 |
ExposureCompensation | +1 |
ExposureMode | Auto |
ExposureProgram | Aperture-priority AE |
ExposureTime | 1/500 |
Flash | Off, Did not fire |
FNumber | 5.6 |
FocalLength | 400.0 mm |
FocalLength35efl | 400.0 mm (35 mm equivalent: 400.0 mm) |
FocalLengthIn35mmFormat | 400 mm |
Format | image/jpeg |
FOV | 5.2 deg |
GrainAmount | 0 |
GreenHue | 0 |
GreenSaturation | 0 |
HasCrop | False |
HasSettings | True |
Highlights2012 | 0 |
HueAdjustmentAqua | 0 |
HueAdjustmentBlue | 0 |
HueAdjustmentGreen | 0 |
HueAdjustmentMagenta | 0 |
HueAdjustmentOrange | 0 |
HueAdjustmentPurple | 0 |
HueAdjustmentRed | 0 |
HueAdjustmentYellow | 0 |
HyperfocalDistance | 950.91 m |
ImageHeight | 960 |
ImageSize | 1080x960 |
ImageWidth | 1080 |
IncrementalTemperature | 0 |
IncrementalTint | 0 |
ISO | 800 |
Lens | 70-400mm F4-5.6 G SSM II |
LensDistortInfo | 1059628451/1073741824 13689250/1073741824 229501/1073741824 162146/1073741824 |
LensID (1) | 69 |
LensID | Sony 70-400mm F4-5.6 G SSM II (SAL70400G2) |
LensInfo | 70-400mm f/4-5.6 |
LensManualDistortionAmount | 0 |
LensModel | 70-400mm F4-5.6 G SSM II |
LensProfileEnable | 0 |
LensProfileSetup | LensDefaults |
LightSource | Unknown |
LightValue | 10.9 |
LuminanceAdjustmentAqua | 0 |
LuminanceAdjustmentBlue | 0 |
LuminanceAdjustmentGreen | 0 |
LuminanceAdjustmentMagenta | 0 |
LuminanceAdjustmentOrange | 0 |
LuminanceAdjustmentPurple | 0 |
LuminanceAdjustmentRed | 0 |
LuminanceAdjustmentYellow | 0 |
LuminanceNoiseReductionContrast | 0 |
LuminanceNoiseReductionDetail | 50 |
LuminanceSmoothing | 56 |
Make | SONY |
MaxApertureValue | 5.6 |
Megapixels | 1.0 |
MeteringMode | Multi-segment |
Model | SLT-A99V |
ModifyDate (1) | 2016:05:05 15:19:06+02:00 |
ModifyDate | 2016:05:05 15:19:06 |
ParametricDarks | 0 |
ParametricHighlights | +40 |
ParametricHighlightSplit | 75 |
ParametricLights | -32 |
ParametricMidtoneSplit | 50 |
ParametricShadows | 0 |
ParametricShadowSplit | 25 |
PerspectiveAspect | 0 |
PerspectiveHorizontal | 0 |
PerspectiveRotate | 0.0 |
PerspectiveScale | 100 |
PerspectiveUpright | 0 |
PerspectiveVertical | 0 |
PostCropVignetteAmount | 0 |
ProcessVersion | 6.7 |
ProfileDescription | sRGB IEC61966-2.1 |
RecommendedExposureIndex | 800 |
RedHue | 0 |
RedSaturation | 0 |
Saturation (1) | +5 |
Saturation | Normal |
SaturationAdjustmentAqua | 0 |
SaturationAdjustmentBlue | 0 |
SaturationAdjustmentGreen | 0 |
SaturationAdjustmentMagenta | 0 |
SaturationAdjustmentOrange | 0 |
SaturationAdjustmentPurple | 0 |
SaturationAdjustmentRed | 0 |
SaturationAdjustmentYellow | 0 |
ScaleFactor35efl | 1.0 |
SceneCaptureType | Standard |
SceneType | Directly photographed |
SensitivityType | Recommended Exposure Index |
Shadows2012 | +48 |
ShadowTint | 0 |
SharpenDetail | 62 |
SharpenEdgeMasking | 100 |
SharpenRadius | +0.7 |
Sharpness (1) | 13 |
Sharpness | Hard |
ShutterSpeed | 1/500 |
ShutterSpeedValue | 1/500 |
Software | Adobe Photoshop Lightroom 6.4 (Windows) |
SplitToningBalance | 0 |
SplitToningHighlightHue | 0 |
SplitToningHighlightSaturation | 0 |
SplitToningShadowHue | 0 |
SplitToningShadowSaturation | 0 |
ToneCurve | 0, 0, 255, 255 |
ToneCurveBlue | 0, 0, 255, 255 |
ToneCurveGreen | 0, 0, 255, 255 |
ToneCurveName | Linear |
ToneCurveName2012 | Linear |
ToneCurvePV2012 | 0, 0, 255, 255 |
ToneCurvePV2012Blue | 0, 0, 255, 255 |
ToneCurvePV2012Green | 0, 0, 255, 255 |
ToneCurvePV2012Red | 0, 0, 255, 255 |
ToneCurveRed | 0, 0, 255, 255 |
ToneMapStrength | 0 |
Version | 9.4 |
Vibrance | 0 |
VignetteAmount | 0 |
WhiteBalance (1) | As Shot |
WhiteBalance | Auto |
Whites2012 | 0 |