Felt | Verdi |
AlreadyApplied | True |
Aperture | 10.0 |
ApertureValue | 10.0 |
ApproximateFocusDistance | 0.91 |
Artist | Ulf Robert Stromme |
AutoLateralCA | 1 |
BitsPerSample | 16 16 16 |
Blacks2012 | 0 |
BlueHue | 0 |
BlueSaturation | 0 |
By-line | Ulf Robert Stromme |
CameraProfile | Camera Portrait v2 |
CircleOfConfusion | 0.023 mm |
Clarity2012 | 0 |
ColorGradeBlending | 50 |
ColorGradeGlobalHue | 0 |
ColorGradeGlobalLum | 0 |
ColorGradeGlobalSat | 0 |
ColorGradeHighlightLum | 0 |
ColorGradeMidtoneHue | 0 |
ColorGradeMidtoneLum | 0 |
ColorGradeMidtoneSat | 0 |
ColorGradeShadowLum | 0 |
ColorMode | RGB |
ColorNoiseReduction | 25 |
ColorNoiseReductionDetail | 50 |
ColorNoiseReductionSmoothness | 50 |
ColorSpace | Uncalibrated |
ColorTemperature | 6600 |
Contrast2012 | 0 |
ConvertToGrayscale | False |
CreateDate | 2022:08:25 15:42:52 |
Creator | Ulf Robert Stromme |
CreatorTool | Adobe Photoshop 24.2 (Macintosh) |
CropAngle | 0 |
CropBottom | 0.921429 |
CropConstrainToWarp | 0 |
CropLeft | 0.226441 |
CropRight | 0.949597 |
CropTop | 0.078571 |
CustomRendered | Normal |
DateCreated (1) | 2022:08:25 15:42:52.039+01:00 |
DateCreated | 2022:08:25 |
DateTimeOriginal | 2022:08:25 15:42:52 |
DefringeGreenAmount | 0 |
DefringeGreenHueHi | 60 |
DefringeGreenHueLo | 40 |
DefringePurpleAmount | 0 |
DefringePurpleHueHi | 70 |
DefringePurpleHueLo | 30 |
Dehaze | 0 |
DistortionCorrectionAlreadyApplied | True |
DOF | 0.31 m (0.78 - 1.09 m) |
ExifImageHeight | 4860 |
ExifImageWidth | 3776 |
Exposure2012 | -0.34 |
ExposureCompensation | 0 |
ExposureMode | Auto |
ExposureProgram | Not Defined |
ExposureTime | 1/40 |
Firmware | 1.8.0 |
Flash | On, Fired |
FlashCompensation | -0.666666666666667 |
FlashFired | True |
FlashFunction | False |
FlashMode | On |
FlashRedEyeMode | False |
FlashReturn | No return detection |
FNumber | 10.0 |
FocalLength | 35.0 mm |
FocalLength35efl | 35.0 mm (35 mm equivalent: 45.9 mm) |
Format | image/tiff |
FOV | 42.8 deg |
GrainAmount | 0 |
GreenHue | 0 |
GreenSaturation | 0 |
HasCrop | True |
HasSettings | True |
Highlights2012 | 0 |
HueAdjustmentAqua | 0 |
HueAdjustmentBlue | 0 |
HueAdjustmentGreen | 0 |
HueAdjustmentMagenta | 0 |
HueAdjustmentOrange | 0 |
HueAdjustmentPurple | 0 |
HueAdjustmentRed | 0 |
HueAdjustmentYellow | 0 |
HyperfocalDistance | 5.35 m |
ICCProfileName | Display P3 |
ImageHeight | 4860 |
ImageNumber | 0 |
ImageSize | 3776x4860 |
ImageWidth | 3776 |
ISO | 125 |
LateralChromaticAberrationCorrectionAlreadyApplied | True |
Lens | RF24-105mm F4-7.1 IS STM |
LensID (1) | 61182 |
LensID | Canon RF 24-105mm F4 L IS USM |
LensInfo (1) | 24 |
LensInfo | 24-105mm f/? |
LensManualDistortionAmount | 0 |
LensModel | RF24-105mm F4-7.1 IS STM |
LensProfileDistortionScale | 100 |
LensProfileEnable | 1 |
LensProfileFilename | Canon (Canon RF 24-105mm F4-7.1 IS STM) - RAW.lcp |
LensProfileIsEmbedded | False |
LensProfileName | Adobe (Canon RF 24-105mm F4-7.1 IS STM) |
LensProfileSetup | LensDefaults |
LensProfileVignettingScale | 100 |
LensSerialNumber | 0000029ee9 |
LightValue | 11.6 |
LuminanceAdjustmentAqua | 0 |
LuminanceAdjustmentBlue | 0 |
LuminanceAdjustmentGreen | 0 |
LuminanceAdjustmentMagenta | 0 |
LuminanceAdjustmentOrange | 0 |
LuminanceAdjustmentPurple | 0 |
LuminanceAdjustmentRed | 0 |
LuminanceAdjustmentYellow | 0 |
LuminanceSmoothing | 0 |
Make | Canon |
MaxApertureValue | 4.6 |
Megapixels | 18.4 |
MeteringMode | Center-weighted average |
Model | Canon EOS R |
ModifyDate (1) | 2023:03:05 14:33:26+01:00 |
ModifyDate | 2023:03:05 14:33:26 |
Orientation | Horizontal (normal) |
OverrideLookVignette | False |
ParametricDarks | 0 |
ParametricHighlights | 0 |
ParametricHighlightSplit | 75 |
ParametricLights | 0 |
ParametricMidtoneSplit | 50 |
ParametricShadows | 0 |
ParametricShadowSplit | 25 |
PerspectiveAspect | 0 |
PerspectiveHorizontal | 0 |
PerspectiveRotate | 0.0 |
PerspectiveScale | 100 |
PerspectiveUpright | 0 |
PerspectiveVertical | 0 |
PerspectiveX | 0.00 |
PerspectiveY | 0.00 |
PhotometricInterpretation | RGB |
PlanarConfiguration | Chunky |
PostCropVignetteAmount | 0 |
ProcessVersion | 11.0 |
ProfileDescription | Display P3 |
Rating | 0 |
RecommendedExposureIndex | 125 |
RedHue | 0 |
RedSaturation | 0 |
RowsPerStrip | 4860 |
SamplesPerPixel | 3 |
Saturation | 0 |
SaturationAdjustmentAqua | +10 |
SaturationAdjustmentBlue | +17 |
SaturationAdjustmentGreen | +14 |
SaturationAdjustmentMagenta | 0 |
SaturationAdjustmentOrange | -12 |
SaturationAdjustmentPurple | +23 |
SaturationAdjustmentRed | +19 |
SaturationAdjustmentYellow | +21 |
ScaleFactor35efl | 1.3 |
SceneCaptureType | Standard |
SensitivityType (1) | 2 |
SensitivityType | Recommended Exposure Index |
SerialNumber | 423023000469 |
Shadows2012 | 0 |
ShadowTint | 0 |
SharpenDetail | 25 |
SharpenEdgeMasking | 0 |
SharpenRadius | +1.0 |
Sharpness | 40 |
ShutterSpeed | 1/40 |
ShutterSpeedValue | 1/40 |
Software | Adobe Photoshop 24.2 (Macintosh) |
SplitToningBalance | 0 |
SplitToningHighlightHue | 0 |
SplitToningHighlightSaturation | 0 |
SplitToningShadowHue | 0 |
SplitToningShadowSaturation | 0 |
StripByteCounts | 110108160 |
StripOffsets | 38738 |
SubfileType | Full-resolution Image |
Texture | 0 |
Tint | +20 |
ToneCurveName2012 | Linear |
ToneCurvePV2012 | 0, 0, 255, 255 |
ToneCurvePV2012Blue | 0, 0, 255, 255 |
ToneCurvePV2012Green | 0, 0, 255, 255 |
ToneCurvePV2012Red | 0, 0, 255, 255 |
URL_List | |
Version | 15.2 |
Vibrance | 0 |
VignetteAmount | 0 |
VignetteCorrectionAlreadyApplied | True |
WhiteBalance (1) | Manual |
WhiteBalance | As Shot |
Whites2012 | 0 |