Felt | Verdi |
AlreadyApplied | True |
Aperture | 6.3 |
ApertureValue | 6.3 |
BitsPerSample | 8 |
BlueHue | 0 |
BlueSaturation | 0 |
Brightness | +58 |
CameraProfile | ACR 2.4 |
ChromaticAberrationB | 0 |
ChromaticAberrationR | 0 |
ColorComponents | 3 |
ColorMode | RGB |
ColorNoiseReduction | 25 |
ColorSpace (1) | Unknown (-1) |
ColorSpace | Uncalibrated |
ColorTemperature | 5100 |
Contrast | +76 |
ConvertToGrayscale | False |
CopyrightFlag | False |
CreateDate (1) | 2008:05:31 19:58:43+02:00 |
CreateDate | 2008:05:30 23:59:46 |
CreatorTool | Adobe Photoshop CS3 Windows |
CropAngle | 0 |
CropBottom | 0.694494 |
CropLeft | 0.055687 |
CropRight | 1 |
CropTop | 0 |
DateTimeDigitized | 2008:05:30 23:59:46+02:00 |
DateTimeOriginal (1) | 2008:05:30 23:59:46+02:00 |
DateTimeOriginal | 2008:05:30 23:59:46 |
ExifImageHeight | 634 |
ExifImageWidth | 1280 |
Exposure | -0.10 |
ExposureCompensation | 0 |
ExposureProgram | Manual |
ExposureTime | 1/4000 |
FillLight | 7 |
Firmware | 1.1.1 |
Flash | No Flash |
FlashFired | False |
FNumber | 6.3 |
FocalLength | 18.0 mm |
FocalLength35efl | 18.0 mm |
Format | image/jpeg |
GreenHue | 0 |
GreenSaturation | 0 |
HasCrop | True |
HasSettings | True |
HighlightRecovery | 0 |
HueAdjustmentAqua | 0 |
HueAdjustmentBlue | 0 |
HueAdjustmentGreen | 0 |
HueAdjustmentMagenta | 0 |
HueAdjustmentOrange | 0 |
HueAdjustmentPurple | 0 |
HueAdjustmentRed | 0 |
HueAdjustmentYellow | 0 |
ICCProfileName | Adobe RGB (1998) |
ImageHeight | 634 |
ImageSize | 1280x634 |
ImageWidth | 1280 |
ISO | 400 |
Lens | 18.0-55.0 mm |
LensInfo | 18-55mm f/? |
LightValue | 15.3 |
LuminanceAdjustmentAqua | 0 |
LuminanceAdjustmentBlue | 0 |
LuminanceAdjustmentGreen | 0 |
LuminanceAdjustmentMagenta | 0 |
LuminanceAdjustmentOrange | 0 |
LuminanceAdjustmentPurple | 0 |
LuminanceAdjustmentRed | 0 |
LuminanceAdjustmentYellow | 0 |
LuminanceSmoothing | 0 |
Make | Canon |
MaxApertureValue | 3.5 |
Megapixels | 0.812 |
MeteringMode | Center-weighted average |
Model | Canon EOS 300D DIGITAL |
ModifyDate (1) | 2008:05:31 19:58:43+02:00 |
ModifyDate | 2008:05:31 19:58:43 |
Orientation | Horizontal (normal) |
ParametricDarks | 0 |
ParametricHighlights | 0 |
ParametricHighlightSplit | 75 |
ParametricLights | 0 |
ParametricMidtoneSplit | 50 |
ParametricShadows | 0 |
ParametricShadowSplit | 25 |
ProfileDescription | Adobe RGB (1998) |
Rating | 0 |
RawFileName | CRW_4896.CRW |
RedHue | 0 |
RedSaturation | 0 |
Saturation | 0 |
SaturationAdjustmentAqua | 0 |
SaturationAdjustmentBlue | 0 |
SaturationAdjustmentGreen | 0 |
SaturationAdjustmentMagenta | 0 |
SaturationAdjustmentOrange | 0 |
SaturationAdjustmentPurple | 0 |
SaturationAdjustmentRed | 0 |
SaturationAdjustmentYellow | 0 |
Shadows | 5 |
ShadowTint | 0 |
Sharpness | 25 |
ShutterSpeed | 1/4000 |
ShutterSpeedValue | 1/4000 |
SidecarForExtension | CRW |
Software | Adobe Photoshop CS3 Windows |
SplitToningBalance | 0 |
SplitToningHighlightHue | 0 |
SplitToningHighlightSaturation | 0 |
SplitToningShadowHue | 0 |
SplitToningShadowSaturation | 0 |
TimeZoneOffset | 2 2 |
Tint | +2 |
ToneCurve | 0, 0, 32, 22, 64, 56, 128, 128, 192, 196, 255, 255 |
ToneCurveName | Medium Contrast |
URL_List | |
Version | 4.0 |
Vibrance | 0 |
VignetteAmount | 0 |
WhiteBalance | Custom |