Felt | Verdi |
AlreadyApplied | True |
Aperture | 7.1 |
ApertureValue | 7.1 |
Artist | El-K |
BitsPerSample | 8 |
BlueHue | -60 |
BlueSaturation | +3 |
Brightness | 0 |
By-line | El-K |
CameraProfile | Embedded |
ChromaticAberrationB | 0 |
ChromaticAberrationR | 0 |
CircleOfConfusion | 0.020 mm |
Clarity | +100 |
ColorComponents | 3 |
ColorNoiseReduction | 25 |
Contrast (2) | -2 |
Contrast | High |
ConvertToGrayscale | False |
Copyright | LasseKristiansen |
CopyrightNotice | LasseKristiansen |
CreateDate (1) | 2009:09:30 19:09:43+02:00 |
CreateDate | 2009:09:30 19:09:43 |
Creator | El-K |
CreatorTool | Adobe Photoshop Lightroom |
CropAngle | 2.2518 |
CropBottom | 0.812638 |
CropHeight | 2366 |
CropLeft | 0.057831 |
CropRight | 0.882468 |
CropTop | 0.001021 |
CropUnit | pixels |
CropWidth | 3949 |
CustomRendered | Normal |
DateTimeDigitized | 2009:09:30 19:09:43+02:00 |
DateTimeOriginal (1) | 2009:09:30 19:09:43+02:00 |
DateTimeOriginal | 2009:09:30 19:09:43 |
Defringe | 0 |
ExifImageHeight | 2366 |
ExifImageWidth | 3949 |
Exposure | -0.86 |
ExposureCompensation | -0.3 |
ExposureMode | Manual |
ExposureProgram | Aperture-priority AE |
ExposureTime | 1/13 |
FillLight | 33 |
Flash | Off, Did not fire |
FlashFired | False |
FlashFunction | False |
FlashMode | Off |
FlashRedEyeMode | False |
FlashReturn | No return detection |
FNumber | 7.1 |
FocalLength | 55.0 mm |
FocalLength35efl | 55.0 mm (35 mm equivalent: 82.0 mm) |
FocalLengthIn35mmFormat | 82 mm |
FOV | 24.8 deg |
GreenHue | +100 |
GreenSaturation | +100 |
HasCrop | True |
HasSettings | True |
HighlightRecovery | 11 |
HueAdjustmentAqua | 0 |
HueAdjustmentBlue | 0 |
HueAdjustmentGreen | 0 |
HueAdjustmentMagenta | 0 |
HueAdjustmentOrange | 0 |
HueAdjustmentPurple | 0 |
HueAdjustmentRed | 0 |
HueAdjustmentYellow | 0 |
HyperfocalDistance | 21.14 m |
ImageHeight | 2366 |
ImageSize | 3949x2366 |
ImageWidth | 3949 |
IncrementalTemperature | +7 |
IncrementalTint | 0 |
ISO | 200 |
Lens | smc PENTAX-DA* 50-135mm F2.8 ED [IF] SDM |
LensID (1) | 8 241 |
LensID | smc PENTAX-DA* 50-135mm F2.8 ED [IF] SDM |
LensInfo | 50-135mm f/2.8 |
LightValue | 8.4 |
LuminanceAdjustmentAqua | +5 |
LuminanceAdjustmentBlue | -24 |
LuminanceAdjustmentGreen | 0 |
LuminanceAdjustmentMagenta | 0 |
LuminanceAdjustmentOrange | +7 |
LuminanceAdjustmentPurple | 0 |
LuminanceAdjustmentRed | 0 |
LuminanceAdjustmentYellow | -90 |
LuminanceSmoothing | 0 |
Make | PENTAX |
Megapixels | 9.3 |
MeteringMode | Center-weighted average |
Model | PENTAX K-7 |
ModifyDate (1) | 2009:11:10 14:46:38+01:00 |
ModifyDate | 2009:11:10 14:46:38 |
PaintCorrectionActive | true |
PaintCorrectionAmount | 1.000000 |
PaintCorrectionBrightness | 0.225000 |
PaintCorrectionClarity | -0.775000 |
PaintCorrectionContrast | 1.000000 |
PaintCorrectionExposure | -0.325000 |
PaintCorrectionHue | 240.000000 |
PaintCorrectionMaskCenterWeight | 0.523026 |
PaintCorrectionMaskFlow | 0.406000 |
PaintCorrectionMaskRadius (5) | 0.089668 |
PaintCorrectionMaskRadius | 0.078502 |
PaintCorrectionMaskValue | 1.000000 |
PaintCorrectionMaskWhat | Mask/Paint |
PaintCorrectionSaturation (1) | 1.000000 |
PaintCorrectionSaturation | 0.880000 |
PaintCorrectionSharpness | 1.000000 |
PaintCorrectionWhat | Correction |
ParametricDarks | -31 |
ParametricHighlights | +100 |
ParametricHighlightSplit | 75 |
ParametricLights | -79 |
ParametricMidtoneSplit | 50 |
ParametricShadows | -33 |
ParametricShadowSplit | 25 |
PostCropVignetteAmount | -71 |
PostCropVignetteFeather | 100 |
PostCropVignetteMidpoint | 50 |
PostCropVignetteRoundness | -76 |
ProfileDescription | sRGB IEC61966-2.1 |
RedHue | +100 |
RedSaturation | -100 |
Rights | LasseKristiansen |
Saturation (2) | +2 |
Saturation | High |
SaturationAdjustmentAqua | +50 |
SaturationAdjustmentBlue | +24 |
SaturationAdjustmentGreen | +10 |
SaturationAdjustmentMagenta | -100 |
SaturationAdjustmentOrange | +52 |
SaturationAdjustmentPurple | -100 |
SaturationAdjustmentRed | +57 |
SaturationAdjustmentYellow | +23 |
ScaleFactor35efl | 1.5 |
SceneCaptureType | Standard |
SceneType | Directly photographed |
SensingMethod | One-chip color area |
Shadows | 0 |
ShadowTint | -4 |
SharpenDetail | 25 |
SharpenEdgeMasking | 0 |
SharpenRadius | +1.0 |
Sharpness (2) | 25 |
Sharpness | Hard |
ShutterSpeed | 1/13 |
ShutterSpeedValue | 1/13 |
Software | K-7 Ver 1.00 |
SplitToningBalance | 0 |
SplitToningHighlightHue | 0 |
SplitToningHighlightSaturation | 0 |
SplitToningShadowHue | 0 |
SplitToningShadowSaturation | 0 |
SubjectDistanceRange | Distant |
ToneCurve | 0, 0, 255, 255 |
ToneCurveName | Linear |
Version | 5.3 |
Vibrance | -2 |
VignetteAmount | 0 |
WhiteBalance (2) | Custom |
WhiteBalance | Manual |