Felt | Verdi |
AlreadyApplied | True |
Aperture | 5.0 |
ApertureValue | 5.0 |
BitsPerSample | 8 |
BlueHue | -1 |
BlueSaturation | +3 |
Brightness | +16 |
CameraProfile | ACR 4.6 |
ChromaticAberrationB | +17 |
ChromaticAberrationR | 0 |
CircleOfConfusion | 0.019 mm |
Clarity | +18 |
ColorComponents | 3 |
ColorMode | RGB |
ColorNoiseReduction | 23 |
ColorSpace (1) | Unknown (-1) |
ColorSpace | Uncalibrated |
ColorTemperature | 5450 |
Contrast | +50 |
ConvertToGrayscale | False |
CopyrightFlag | False |
CreateDate (1) | 2010:01:11 22:37:08+01:00 |
CreateDate | 2010:01:02 11:01:08 |
CreatorTool | Adobe Photoshop CS3 Macintosh |
CustomRendered | Normal |
DateTimeDigitized | 2010:01:02 11:01:08.39+01:00 |
DateTimeOriginal (1) | 2010:01:02 11:01:08.39+01:00 |
DateTimeOriginal | 2010:01:02 11:01:08 |
Defringe | 0 |
DerivedFrom | |
ExifImageHeight | 4752 |
ExifImageWidth | 3168 |
Exposure | +0.45 |
ExposureCompensation | 0 |
ExposureMode | Manual |
ExposureProgram | Manual |
ExposureTime | 1/320 |
FillLight | 13 |
Firmware | 1.0.7 |
Flash | Off, Did not fire |
FlashCompensation | 0 |
FlashFired | False |
FlashFunction | False |
FlashMode | Off |
FlashRedEyeMode | False |
FlashReturn | No return detection |
FNumber | 5.0 |
FocalLength | 200.0 mm |
FocalLength35efl | 200.0 mm (35 mm equivalent: 316.9 mm) |
Format | image/jpeg |
FOV | 6.5 deg |
GreenHue | 0 |
GreenSaturation | 0 |
HasCrop | False |
HasSettings | True |
HighlightRecovery | 4 |
HueAdjustmentAqua | 0 |
HueAdjustmentBlue | +4 |
HueAdjustmentGreen | -16 |
HueAdjustmentMagenta | 0 |
HueAdjustmentOrange | +4 |
HueAdjustmentPurple | +7 |
HueAdjustmentRed | 0 |
HueAdjustmentYellow | +3 |
HyperfocalDistance | 421.90 m |
ICCProfileName | Adobe RGB (1998) |
ImageHeight | 4752 |
ImageNumber | 0 |
ImageSize | 3168x4752 |
ImageWidth | 3168 |
ISO | 160 |
Lens | EF70-200mm f/2.8L IS USM |
LensInfo | 70-200mm f/? |
LightValue | 12.3 |
LuminanceAdjustmentAqua | 0 |
LuminanceAdjustmentBlue | -5 |
LuminanceAdjustmentGreen | -24 |
LuminanceAdjustmentMagenta | 0 |
LuminanceAdjustmentOrange | -6 |
LuminanceAdjustmentPurple | -6 |
LuminanceAdjustmentRed | 0 |
LuminanceAdjustmentYellow | +8 |
LuminanceSmoothing | 56 |
Make | Canon |
MaxApertureValue | 2.8 |
Megapixels | 15.1 |
MeteringMode | Multi-segment |
Model | Canon EOS 50D |
ModifyDate (1) | 2010:01:11 22:37:08+01:00 |
ModifyDate | 2010:01:11 22:37:08 |
Orientation | Horizontal (normal) |
ParametricDarks | +3 |
ParametricHighlights | +8 |
ParametricHighlightSplit | 75 |
ParametricLights | -3 |
ParametricMidtoneSplit | 50 |
ParametricShadows | +9 |
ParametricShadowSplit | 25 |
PostCropVignetteAmount | 0 |
ProfileDescription | Adobe RGB (1998) |
Rating | 0 |
RawFileName | IMG_5842.CR2 |
RedHue | +3 |
RedSaturation | +1 |
Saturation | -10 |
SaturationAdjustmentAqua | 0 |
SaturationAdjustmentBlue | +14 |
SaturationAdjustmentGreen | -4 |
SaturationAdjustmentMagenta | 0 |
SaturationAdjustmentOrange | -10 |
SaturationAdjustmentPurple | 0 |
SaturationAdjustmentRed | +6 |
SaturationAdjustmentYellow | +8 |
ScaleFactor35efl | 1.6 |
SceneCaptureType | Standard |
SerialNumber | 230103689 |
Shadows | 14 |
ShadowTint | +1 |
SharpenDetail | 36 |
SharpenEdgeMasking | 41 |
SharpenRadius | +1.2 |
Sharpness | 67 |
ShutterSpeed | 1/320 |
ShutterSpeedValue | 1/320 |
SidecarForExtension | CR2 |
Software | Adobe Photoshop CS3 Macintosh |
SplitToningBalance | +13 |
SplitToningHighlightHue | 56 |
SplitToningHighlightSaturation | 9 |
SplitToningShadowHue | 212 |
SplitToningShadowSaturation | 7 |
Tint | +16 |
ToneCurve | 0, 0, 32, 22, 71, 57, 130, 127, 189, 198, 255, 255 |
ToneCurveName | Custom |
URL_List | |
Version | 4.6 |
Vibrance | -7 |
VignetteAmount | -73 |
VignetteMidpoint | 23 |
WhiteBalance (2) | Custom |
WhiteBalance | Manual |