Felt | Verdi |
AlreadyApplied | True |
Aperture | 8.0 |
ApertureValue | 8.0 |
Artist | Alf Inge Angel |
BitsPerSample | 8 |
BlueHue | 0 |
BlueSaturation | 0 |
Brightness | +78 |
By-line | Alf Inge Angel |
CameraProfile | ACR 4.4 |
CFAPattern | [Green,Blue][Red,Green] |
ChromaticAberrationB | 0 |
ChromaticAberrationR | 0 |
CircleOfConfusion | 0.020 mm |
Clarity | +100 |
ColorComponents | 3 |
ColorMode | RGB |
ColorNoiseReduction | 100 |
ColorSpace | Uncalibrated |
ColorTemperature | 5800 |
Contrast (2) | +100 |
Contrast | High |
ConvertToGrayscale | False |
Copyright | Alf Inge Angel |
CopyrightNotice | Alf Inge Angel |
CreateDate (1) | 2010:03:03 17:46:11.10+01:00 |
CreateDate | 2010:03:03 17:46:11 |
Creator | Alf Inge Angel |
CreatorCountry | Norway |
CreatorTool | Ver.1.01 |
CreatorWorkEmail | alf_inge_angel@hotmail.com |
CropAngle | 0 |
CropBottom | 0.858034 |
CropLeft | 0.079415 |
CropRight | 0.933124 |
CropTop | 0.134165 |
CustomRendered | Normal |
DateTimeDigitized | 2010:03:03 17:46:11.10+01:00 |
DateTimeOriginal (1) | 2010:03:03 17:46:11.10+01:00 |
DateTimeOriginal | 2010:03:03 17:46:11 |
Defringe | 0 |
DigitalZoomRatio | 1 |
DOF | inf (140.41 m - inf) |
ExifImageHeight | 726 |
ExifImageWidth | 1280 |
Exposure | +0.05 |
ExposureCompensation | 0 |
ExposureMode | Auto |
ExposureProgram | Aperture-priority AE |
ExposureTime | 1/40 |
FillLight | 100 |
Flash | No Flash |
FlashFired | False |
FlashFunction | False |
FlashMode | Unknown |
FlashRedEyeMode | False |
FlashReturn | No return detection |
FNumber | 8.0 |
FocalLength | 150.0 mm |
FocalLength35efl | 150.0 mm (35 mm equivalent: 225.0 mm) |
FocalLengthIn35mmFormat | 225 mm |
Format | image/jpeg |
FOV | 9.1 deg |
GainControl | None |
GreenHue | 0 |
GreenSaturation | 0 |
HasCrop | True |
HasSettings | True |
HighlightRecovery | 100 |
HueAdjustmentAqua | 0 |
HueAdjustmentBlue | 0 |
HueAdjustmentGreen | 0 |
HueAdjustmentMagenta | 0 |
HueAdjustmentOrange | 0 |
HueAdjustmentPurple | 0 |
HueAdjustmentRed | 0 |
HueAdjustmentYellow | 0 |
HyperfocalDistance | 140.41 m |
ICCProfileName | Adobe RGB (1998) |
ImageHeight | 726 |
ImageNumber | 7160 |
ImageSize | 1280x726 |
ImageWidth | 1280 |
ISO | 100 |
Lens | 50.0-150.0 mm f/2.8 |
LensID (1) | 122 |
LensID | Sigma 50-150mm F2.8 EX APO DC HSM |
LensInfo | 50-150mm f/2.8 |
LightSource | Unknown |
LightValue | 11.3 |
LuminanceAdjustmentAqua | 0 |
LuminanceAdjustmentBlue | 0 |
LuminanceAdjustmentGreen | 0 |
LuminanceAdjustmentMagenta | 0 |
LuminanceAdjustmentOrange | 0 |
LuminanceAdjustmentPurple | 0 |
LuminanceAdjustmentRed | 0 |
LuminanceAdjustmentYellow | 0 |
LuminanceSmoothing | 100 |
Make | NIKON CORPORATION |
MaxApertureValue | 2.8 |
Megapixels | 0.929 |
MeteringMode | Multi-segment |
Model | NIKON D60 |
ModifyDate (1) | 2010:03:10 11:41:42+01:00 |
ModifyDate | 2010:03:10 11:41:42 |
Orientation | Horizontal (normal) |
ParametricDarks | 0 |
ParametricHighlights | 0 |
ParametricHighlightSplit | 75 |
ParametricLights | 0 |
ParametricMidtoneSplit | 50 |
ParametricShadows | 0 |
ParametricShadowSplit | 25 |
PostCropVignetteAmount | -100 |
PostCropVignetteFeather | 79 |
PostCropVignetteMidpoint | 83 |
PostCropVignetteRoundness | +77 |
ProfileDescription | Adobe RGB (1998) |
Rating | 0 |
RawFileName | DSC_3491.NEF |
RedHue | 0 |
RedSaturation | 0 |
Rights | Alf Inge Angel |
Saturation (2) | -88 |
Saturation | Normal |
SaturationAdjustmentAqua | 0 |
SaturationAdjustmentBlue | 0 |
SaturationAdjustmentGreen | 0 |
SaturationAdjustmentMagenta | 0 |
SaturationAdjustmentOrange | 0 |
SaturationAdjustmentPurple | 0 |
SaturationAdjustmentRed | 0 |
SaturationAdjustmentYellow | 0 |
ScaleFactor35efl | 1.5 |
SceneCaptureType | Standard |
SceneType | Directly photographed |
SensingMethod | One-chip color area |
SerialNumber | 6465516 |
Shadows | 53 |
ShadowTint | 0 |
SharpenDetail | 51 |
SharpenEdgeMasking | 100 |
SharpenRadius | +3.0 |
Sharpness (2) | 150 |
Sharpness | Normal |
ShutterSpeed | 1/40 |
ShutterSpeedValue | 1/40 |
Software | Adobe Photoshop CS4 Windows |
SplitToningBalance | 0 |
SplitToningHighlightHue | 0 |
SplitToningHighlightSaturation | 0 |
SplitToningShadowHue | 0 |
SplitToningShadowSaturation | 0 |
SubjectDistance | 4294967295 m |
SubjectDistanceRange | Unknown |
Tint | -12 |
ToneCurve | 0, 0, 255, 255 |
ToneCurveName | Linear |
URL_List | |
UserComment | (C) Alf Inge Angel |
Version | 5.6 |
Vibrance | -38 |
VignetteAmount | 0 |
WhiteBalance (2) | As Shot |
WhiteBalance | Auto |