Felt | Verdi |
AlreadyApplied | True |
Aperture | 4.0 |
ApertureValue | 4.0 |
BitsPerSample | 8 |
BlueHue | 0 |
BlueSaturation | 0 |
Brightness | +61 |
CameraProfile | ACR 4.4 |
ChromaticAberrationB | 0 |
ChromaticAberrationR | 0 |
CircleOfConfusion | 0.023 mm |
Clarity | +100 |
ColorComponents | 3 |
ColorMode | RGB |
ColorNoiseReduction | 99 |
ColorSpace | Uncalibrated |
ColorTemperature | 4000 |
Contrast | +30 |
ConvertToGrayscale | False |
CreateDate (1) | 2010:05:02 05:37:00.00+02:00 |
CreateDate | 2010:05:02 05:37:00 |
CropAngle | 0 |
CropBottom | 0.744373 |
CropLeft | 0.454448 |
CropRight | 0.772776 |
CropTop | 0.146303 |
CustomRendered | Normal |
DateTimeDigitized | 2010:05:02 05:37:00.00+02:00 |
DateTimeOriginal (1) | 2010:05:02 05:37:00.00+02:00 |
DateTimeOriginal | 2010:05:02 05:37:00 |
Defringe | 0 |
ExifImageHeight | 8400 |
ExifImageWidth | 8400 |
Exposure | -0.95 |
ExposureCompensation | 0 |
ExposureMode | Manual |
ExposureProgram | Manual |
ExposureTime | 1/640 |
FillLight | 47 |
Firmware | 1.2.5 |
Flash | No Flash |
FlashCompensation | 0 |
FlashFired | False |
FlashFunction | False |
FlashMode | Unknown |
FlashRedEyeMode | False |
FlashReturn | No return detection |
FNumber | 4.0 |
FocalLength | 500.0 mm |
FocalLength35efl | 500.0 mm (35 mm equivalent: 640.7 mm) |
Format | image/jpeg |
FOV | 3.2 deg |
GreenHue | 0 |
GreenSaturation | 0 |
HasCrop | True |
HasSettings | True |
HighlightRecovery | 0 |
HueAdjustmentAqua | 0 |
HueAdjustmentBlue | 0 |
HueAdjustmentGreen | 0 |
HueAdjustmentMagenta | 0 |
HueAdjustmentOrange | 0 |
HueAdjustmentPurple | 0 |
HueAdjustmentRed | -20 |
HueAdjustmentYellow | 0 |
HyperfocalDistance | 2665.46 m |
ICCProfileName | Adobe RGB (1998) |
ImageHeight | 8400 |
ImageNumber | 0 |
ImageSize | 8400x8400 |
ImageWidth | 8400 |
ISO | 160 |
Lens | EF500mm f/4L IS USM |
LensInfo | 500mm f/? |
LightValue | 12.6 |
LuminanceAdjustmentAqua | 0 |
LuminanceAdjustmentBlue | 0 |
LuminanceAdjustmentGreen | 0 |
LuminanceAdjustmentMagenta | 0 |
LuminanceAdjustmentOrange | 0 |
LuminanceAdjustmentPurple | 0 |
LuminanceAdjustmentRed | 0 |
LuminanceAdjustmentYellow | 0 |
LuminanceSmoothing | 100 |
Make | Canon |
MaxApertureValue | 4.0 |
Megapixels | 70.6 |
MeteringMode | Spot |
Model | Canon EOS-1D Mark III |
ModifyDate (1) | 2010:05:26 09:39:26+02:00 |
ModifyDate | 2010:05:26 09:39:26 |
Orientation | Horizontal (normal) |
ParametricDarks | -3 |
ParametricHighlights | -79 |
ParametricHighlightSplit | 75 |
ParametricLights | +62 |
ParametricMidtoneSplit | 50 |
ParametricShadows | -7 |
ParametricShadowSplit | 25 |
PostCropVignetteAmount | 0 |
ProfileDescription | Adobe RGB (1998) |
Rating | 0 |
RawFileName | IMG_5556.CR2 |
RedHue | 0 |
RedSaturation | 0 |
Saturation | +36 |
SaturationAdjustmentAqua | 0 |
SaturationAdjustmentBlue | 0 |
SaturationAdjustmentGreen | 0 |
SaturationAdjustmentMagenta | 0 |
SaturationAdjustmentOrange | 0 |
SaturationAdjustmentPurple | 0 |
SaturationAdjustmentRed | 0 |
SaturationAdjustmentYellow | 0 |
ScaleFactor35efl | 1.3 |
SceneCaptureType | Standard |
SerialNumber | 566038 |
Shadows | 0 |
ShadowTint | 0 |
SharpenDetail | 80 |
SharpenEdgeMasking | 91 |
SharpenRadius | +2.7 |
Sharpness | 150 |
ShutterSpeed | 1/640 |
ShutterSpeedValue | 1/640 |
SidecarForExtension | CR2 |
Software | Adobe Photoshop CS4 Windows |
SplitToningBalance | 0 |
SplitToningHighlightHue | 0 |
SplitToningHighlightSaturation | 0 |
SplitToningShadowHue | 0 |
SplitToningShadowSaturation | 0 |
Tint | 0 |
ToneCurve | 0, 0, 32, 22, 64, 56, 128, 128, 192, 196, 255, 255 |
ToneCurveName | Medium Contrast |
URL_List | |
Version | 5.0 |
Vibrance | -8 |
VignetteAmount | 0 |
WhiteBalance | Auto |