Felt | Verdi |
AlreadyApplied | True |
Aperture | 8.0 |
ApertureValue | 8.0 |
Artist | P. Isaksen |
BitsPerSample | 8 |
BlueHue | 0 |
BlueSaturation | 0 |
Brightness | +41 |
By-line | P. Isaksen |
CameraProfile | Camera Portrait |
ChromaticAberrationB | 0 |
ChromaticAberrationR | -11 |
CircleOfConfusion | 0.019 mm |
Clarity | 0 |
ColorComponents | 3 |
ColorMode | RGB |
ColorNoiseReduction | 25 |
ColorSpace | sRGB |
ColorTemperature | 4950 |
Contrast | +25 |
ConvertToGrayscale | False |
CreateDate (1) | 2010:05:16 07:24:27.03+02:00 |
CreateDate | 2010:05:16 07:24:27 |
Creator | P. Isaksen |
CustomRendered | Normal |
DateTimeDigitized | 2010:05:16 07:24:27.03+02:00 |
DateTimeOriginal (1) | 2010:05:16 07:24:27.03+02:00 |
DateTimeOriginal | 2010:05:16 07:24:27 |
Defringe | 0 |
ExifImageHeight | 1737 |
ExifImageWidth | 2838 |
Exposure | 0.00 |
ExposureCompensation | 0 |
ExposureMode | Auto |
ExposureProgram | Aperture-priority AE |
ExposureTime | 1/320 |
FillLight | 2 |
Firmware | 1.1.0 |
Flash | Off, Did not fire |
FlashCompensation | 0 |
FlashFired | False |
FlashFunction | False |
FlashMode | Off |
FlashRedEyeMode | False |
FlashReturn | No return detection |
FNumber | 8.0 |
FocalLength | 250.0 mm |
FocalLength35efl | 250.0 mm (35 mm equivalent: 403.8 mm) |
Format | image/jpeg |
FOV | 5.1 deg |
GreenHue | 0 |
GreenSaturation | 0 |
HasCrop | False |
HasSettings | True |
HighlightRecovery | 19 |
HueAdjustmentAqua | 0 |
HueAdjustmentBlue | 0 |
HueAdjustmentGreen | 0 |
HueAdjustmentMagenta | 0 |
HueAdjustmentOrange | 0 |
HueAdjustmentPurple | 0 |
HueAdjustmentRed | +1 |
HueAdjustmentYellow | +1 |
HyperfocalDistance | 420.03 m |
ICCProfileName | sRGB IEC61966-2.1 |
ImageHeight | 1737 |
ImageNumber | 0 |
ImageSize | 2838x1737 |
ImageWidth | 2838 |
ISO | 200 |
Lens | EF-S55-250mm f/4-5.6 IS |
LensInfo | 55-250mm f/? |
LightValue | 13.3 |
LuminanceAdjustmentAqua | 0 |
LuminanceAdjustmentBlue | 0 |
LuminanceAdjustmentGreen | 0 |
LuminanceAdjustmentMagenta | 0 |
LuminanceAdjustmentOrange | 0 |
LuminanceAdjustmentPurple | 0 |
LuminanceAdjustmentRed | 0 |
LuminanceAdjustmentYellow | 0 |
LuminanceSmoothing | 39 |
Make | Canon |
MaxApertureValue | 5.7 |
Megapixels | 4.9 |
MeteringMode | Multi-segment |
Model | Canon EOS 450D |
ModifyDate (1) | 2010:06:10 00:48:07+02:00 |
ModifyDate | 2010:06:10 00:48:07 |
Orientation | Horizontal (normal) |
OwnerName | P. Isaksen |
ParametricDarks | -35 |
ParametricHighlights | +23 |
ParametricHighlightSplit | 83 |
ParametricLights | -36 |
ParametricMidtoneSplit | 48 |
ParametricShadows | 0 |
ParametricShadowSplit | 11 |
PostCropVignetteAmount | 0 |
ProfileDescription | sRGB IEC61966-2.1 |
Rating | 0 |
RawFileName | IMG_1566.CR2 |
RedHue | 0 |
RedSaturation | 0 |
Saturation | 0 |
SaturationAdjustmentAqua | 0 |
SaturationAdjustmentBlue | 0 |
SaturationAdjustmentGreen | 0 |
SaturationAdjustmentMagenta | 0 |
SaturationAdjustmentOrange | 0 |
SaturationAdjustmentPurple | 0 |
SaturationAdjustmentRed | 0 |
SaturationAdjustmentYellow | 0 |
ScaleFactor35efl | 1.6 |
SceneCaptureType | Standard |
SerialNumber | 1730500778 |
Shadows | 22 |
ShadowTint | 0 |
SharpenDetail | 25 |
SharpenEdgeMasking | 30 |
SharpenRadius | +1.1 |
Sharpness | 68 |
ShutterSpeed | 1/320 |
ShutterSpeedValue | 1/320 |
SidecarForExtension | CR2 |
Software | Adobe Photoshop CS4 Windows |
SplitToningBalance | 0 |
SplitToningHighlightHue | 177 |
SplitToningHighlightSaturation | 0 |
SplitToningShadowHue | 0 |
SplitToningShadowSaturation | 0 |
Tint | +4 |
ToneCurve | 0, 0, 32, 22, 64, 56, 128, 128, 192, 196, 255, 255 |
ToneCurveName | Medium Contrast |
URL_List | |
Version | 5.5 |
Vibrance | 0 |
VignetteAmount | +4 |
VignetteMidpoint | 50 |
WhiteBalance (2) | As Shot |
WhiteBalance | Manual |