Felt | Verdi |
AlreadyApplied | True |
Aperture | 18.0 |
ApertureValue | 18.0 |
BitsPerSample | 8 |
BlueHue | 0 |
BlueSaturation | 0 |
Brightness | +50 |
CameraProfile | Adobe Standard |
ChromaticAberrationB | 0 |
ChromaticAberrationR | 0 |
CircleOfConfusion | 0.027 mm |
Clarity | -12 |
ColorComponents | 3 |
ColorNoiseReduction | 25 |
ColorTemperature | 5095 |
Contrast | +25 |
ConvertToGrayscale | False |
CreateDate (1) | 2010:06:19 12:04:49.42+02:00 |
CreateDate | 2010:06:19 12:04:49 |
CreatorTool | Adobe Photoshop Lightroom |
CropAngle | 0 |
CropBottom | 1 |
CropHeight | 3182 |
CropLeft | 0.113912 |
CropRight | 0.886088 |
CropTop | 0.025211 |
CropUnit | pixels |
CropWidth | 3781 |
CustomRendered | Normal |
DateTimeDigitized | 2010:06:19 12:04:49.42+02:00 |
DateTimeOriginal (1) | 2010:06:19 12:04:49.42+02:00 |
DateTimeOriginal | 2010:06:19 12:04:49 |
Defringe | 0 |
DOF | inf (34.63 m - inf) |
ExifImageHeight | 3182 |
ExifImageWidth | 3781 |
Exposure | 0.00 |
ExposureCompensation | 0 |
ExposureMode | Auto |
ExposureProgram | Shutter speed priority AE |
ExposureTime | 1/10 |
FillLight | 0 |
Firmware | 1.0.6 |
Flash | No Flash |
FlashCompensation | 0 |
FlashFired | False |
FlashFunction | False |
FlashMode | Unknown |
FlashRedEyeMode | False |
FlashReturn | No return detection |
FNumber | 18.0 |
FocalLength | 130.0 mm |
FocalLength35efl | 130.0 mm (35 mm equivalent: 144.1 mm) |
FOV | 14.2 deg |
GreenHue | 0 |
GreenSaturation | 0 |
HasCrop | True |
HasSettings | True |
HighlightRecovery | 0 |
HueAdjustmentAqua | 0 |
HueAdjustmentBlue | 0 |
HueAdjustmentGreen | 0 |
HueAdjustmentMagenta | 0 |
HueAdjustmentOrange | 0 |
HueAdjustmentPurple | 0 |
HueAdjustmentRed | 0 |
HueAdjustmentYellow | 0 |
HyperfocalDistance | 34.63 m |
ImageHeight | 3182 |
ImageNumber | 0 |
ImageSize | 3781x3182 |
ImageWidth | 3781 |
ISO | 50 |
Lens | EF70-200mm f/2.8L IS II USM |
LensID (1) | 251 |
LensID | Canon EF 70-200mm f/2.8L IS II USM or Canon EF 70-200mm f/2.8L IS III USM |
LensInfo | 70-200mm f/? |
LightValue | 12.7 |
LuminanceAdjustmentAqua | 0 |
LuminanceAdjustmentBlue | 0 |
LuminanceAdjustmentGreen | 0 |
LuminanceAdjustmentMagenta | 0 |
LuminanceAdjustmentOrange | 0 |
LuminanceAdjustmentPurple | 0 |
LuminanceAdjustmentRed | 0 |
LuminanceAdjustmentYellow | 0 |
LuminanceSmoothing | 0 |
Make | Canon |
MaxApertureValue | 2.8 |
Megapixels | 12.0 |
MeteringMode | Multi-segment |
Model | Canon EOS-1D Mark IV |
ModifyDate (1) | 2010:06:21 17:47:05+02:00 |
ModifyDate | 2010:06:21 17:47:05 |
ParametricDarks | +14 |
ParametricHighlights | -38 |
ParametricHighlightSplit | 75 |
ParametricLights | +29 |
ParametricMidtoneSplit | 50 |
ParametricShadows | -36 |
ParametricShadowSplit | 25 |
PostCropVignetteAmount | 0 |
ProfileDescription | sRGB IEC61966-2.1 |
RedHue | 0 |
RedSaturation | 0 |
Saturation | +50 |
SaturationAdjustmentAqua | 0 |
SaturationAdjustmentBlue | 0 |
SaturationAdjustmentGreen | 0 |
SaturationAdjustmentMagenta | 0 |
SaturationAdjustmentOrange | 0 |
SaturationAdjustmentPurple | 0 |
SaturationAdjustmentRed | 0 |
SaturationAdjustmentYellow | 0 |
ScaleFactor35efl | 1.1 |
SceneCaptureType | Standard |
SerialNumber | 330302621 |
Shadows | 5 |
ShadowTint | 0 |
SharpenDetail | 25 |
SharpenEdgeMasking | 0 |
SharpenRadius | +1.0 |
Sharpness | 25 |
ShutterSpeed | 1/10 |
ShutterSpeedValue | 1/10 |
SplitToningBalance | 0 |
SplitToningHighlightHue | 0 |
SplitToningHighlightSaturation | 0 |
SplitToningShadowHue | 0 |
SplitToningShadowSaturation | 0 |
SubjectDistance | 4294967295 m |
Tint | -4 |
ToneCurve | 0, 0, 32, 22, 64, 56, 128, 128, 192, 196, 255, 255 |
ToneCurveName | Medium Contrast |
Version | 5.7 |
Vibrance | +21 |
VignetteAmount | 0 |
WhiteBalance (2) | Custom |
WhiteBalance | Auto |