Felt | Verdi |
AlreadyApplied | True |
Aperture | 5.0 |
ApertureValue | 5.0 |
ApproximateFocusDistance | 2.72 |
Artist | Eric Fagerheim |
BitsPerSample | 8 |
BlueHue | 0 |
BlueSaturation | 0 |
Brightness | +50 |
By-line | Eric Fagerheim |
CameraProfile | Embedded |
ChromaticAberrationB | 0 |
ChromaticAberrationR | 0 |
CircleOfConfusion | 0.031 mm |
Clarity | +6 |
ColorComponents | 3 |
ColorNoiseReduction | 0 |
Contrast | +39 |
ConvertToGrayscale | False |
Copyright | Din fotograf i Trondheim - Fotofashion |
CopyrightNotice | Din fotograf i Trondheim - Fotofashion |
CreateDate (1) | 2011:07:26 16:16:13.38 |
CreateDate | 2011:07:26 16:16:13 |
Creator | Eric Fagerheim |
CreatorTool | Adobe Photoshop Lightroom 3.4.1 |
CreatorWorkEmail | mail@fotofashion.no |
CreatorWorkURL | http://www.fotofashion.no |
CustomRendered | Normal |
DateCreated (1) | 2011:07:26 |
DateCreated | 2011:07:26 16:16:13.038 |
DateTimeOriginal | 2011:07:26 16:16:13 |
Defringe | 0 |
DOF | 0.92 m (2.34 - 3.26 m) |
Exposure | -1.06 |
ExposureCompensation | 0 |
ExposureMode | Manual |
ExposureProgram | Manual |
ExposureTime | 1/160 |
FillLight | 2 |
Firmware | 2.0.9 |
Flash | Off, Did not fire |
FlashCompensation | 0 |
FNumber | 5.0 |
FocalLength | 50.0 mm |
FocalLength35efl | 50.0 mm (35 mm equivalent: 48.8 mm) |
Format | application/vnd.adobe.photoshop |
FOV | 40.5 deg |
GrainAmount | 0 |
GreenHue | 0 |
GreenSaturation | 0 |
HasCrop | False |
HasSettings | True |
Headline | Din fotograf i Trondheim - Fotofashion |
HighlightRecovery | 25 |
HueAdjustmentAqua | 0 |
HueAdjustmentBlue | 0 |
HueAdjustmentGreen | 0 |
HueAdjustmentMagenta | 0 |
HueAdjustmentOrange | 0 |
HueAdjustmentPurple | 0 |
HueAdjustmentRed | 0 |
HueAdjustmentYellow | 0 |
HyperfocalDistance | 16.24 m |
ImageHeight | 533 |
ImageNumber | 0 |
ImageSize | 800x533 |
ImageWidth | 800 |
IncrementalTemperature | -6 |
IncrementalTint | 0 |
ISO | 100 |
Keywords | 50, Nina, bilde, canon, dof, fashion, foto, fotofashion, fotograf, fotograf trondheim, fotografi, johnsvannet, nude, shallow, sigma, trondheim |
Lens | EF24-105mm f/4L IS USM |
LensID (1) | 237 |
LensID | Canon EF 24-105mm f/4L IS USM |
LensInfo | 24-105mm f/? |
LensManualDistortionAmount | 0 |
LensModel | EF24-105mm f/4L IS USM |
LensProfileEnable | 0 |
LensProfileSetup | LensDefaults |
LightValue | 12.0 |
LuminanceAdjustmentAqua | 0 |
LuminanceAdjustmentBlue | 0 |
LuminanceAdjustmentGreen | 0 |
LuminanceAdjustmentMagenta | 0 |
LuminanceAdjustmentOrange | +8 |
LuminanceAdjustmentPurple | 0 |
LuminanceAdjustmentRed | +4 |
LuminanceAdjustmentYellow | +10 |
LuminanceSmoothing | 0 |
Make | Canon |
MaxApertureValue | 4.0 |
Megapixels | 0.426 |
MeteringMode | Multi-segment |
Model | Canon EOS 5D Mark II |
ModifyDate (1) | 2011:07:28 00:25:39+02:00 |
ModifyDate | 2011:07:28 00:25:39 |
ObjectName | Din fotograf i Trondheim - Fotofashion |
ParametricDarks | +15 |
ParametricHighlights | -10 |
ParametricHighlightSplit | 75 |
ParametricLights | -2 |
ParametricMidtoneSplit | 50 |
ParametricShadows | +6 |
ParametricShadowSplit | 25 |
PerspectiveHorizontal | 0 |
PerspectiveRotate | 0.0 |
PerspectiveScale | 100 |
PerspectiveVertical | 0 |
PostCropVignetteAmount | 0 |
ProcessVersion | 5.7 |
ProfileDescription | sRGB IEC61966-2.1 |
Rating | 1 |
RedHue | 0 |
RedSaturation | 0 |
Rights | Din fotograf i Trondheim - Fotofashion |
Saturation | -3 |
SaturationAdjustmentAqua | 0 |
SaturationAdjustmentBlue | 0 |
SaturationAdjustmentGreen | 0 |
SaturationAdjustmentMagenta | 0 |
SaturationAdjustmentOrange | 0 |
SaturationAdjustmentPurple | 0 |
SaturationAdjustmentRed | 0 |
SaturationAdjustmentYellow | 0 |
ScaleFactor35efl | 1.0 |
SceneCaptureType | Standard |
SerialNumber | 1330823407 |
Shadows | 0 |
ShadowTint | 0 |
SharpenDetail | 25 |
SharpenEdgeMasking | 0 |
SharpenRadius | +1.0 |
Sharpness | 0 |
ShutterSpeed | 1/160 |
ShutterSpeedValue | 1/160 |
Software | Adobe Photoshop Lightroom 3.4.1 |
SplitToningBalance | +52 |
SplitToningHighlightHue | 48 |
SplitToningHighlightSaturation | 13 |
SplitToningShadowHue | 25 |
SplitToningShadowSaturation | 0 |
Subject | 50, Nina, bilde, canon, dof, fashion, foto, fotofashion, fotograf, fotograf trondheim, fotografi, johnsvannet, nude, shallow, sigma, trondheim |
SubjectDistance | 2.72 m |
Title | Din fotograf i Trondheim - Fotofashion |
ToneCurve | 0, 0, 32, 22, 64, 56, 128, 128, 192, 196, 255, 255 |
ToneCurveName | Medium Contrast |
URL | http://www.fotofashion.no |
Version | 6.4.1 |
Vibrance | -10 |
VignetteAmount | 0 |
WebStatement | http://www.fotofashion.no |
WhiteBalance (1) | Custom |
WhiteBalance | Auto |