Felt | Verdi |
AlreadyApplied | True |
Aperture | 2.8 |
ApertureValue | 2.8 |
Artist | stian furuseth |
BitsPerSample (1) | 8 8 8 |
BitsPerSample | 8 |
BlueHue | 0 |
BlueSaturation | -17 |
Brightness | +50 |
By-line | stian furuseth |
CameraProfile | Adobe Standard |
ChromaticAberrationB | 0 |
ChromaticAberrationR | 0 |
CircleOfConfusion | 0.030 mm |
Clarity | -45 |
ColorComponents | 3 |
ColorMode | RGB |
ColorNoiseReduction | 25 |
ColorNoiseReductionDetail | 50 |
ColorSpace | sRGB |
ColorTemperature | 3609 |
Contrast | +25 |
ConvertToGrayscale | False |
Copyright | Stian Furuseth |
CopyrightFlag | True |
CopyrightNotice | Stian Furuseth |
CreateDate (1) | 2011:09:30 04:35:11+02:00 |
CreateDate | 2011:09:30 04:35:11 |
Creator | stian furuseth |
CreatorTool | Adobe Photoshop CS5 Windows |
CropAngle | -0.642469 |
CropBottom | 0.983458 |
CropConstrainToWarp | 0 |
CropHeight | 3273 |
CropLeft | 0.004595 |
CropRight | 0.995405 |
CropTop | 0.016542 |
CropUnit | pixels |
CropWidth | 4909 |
CustomRendered | Normal |
DateCreated (1) | 2011:09:30 |
DateCreated | 2011:09:30 04:35:11 |
DateTimeOriginal | 2011:09:30 04:35:11 |
Defringe | 0 |
ExifImageHeight | 533 |
ExifImageWidth | 800 |
Exposure | 0.00 |
ExposureCompensation | 0 |
ExposureMode | Manual |
ExposureProgram | Manual |
ExposureTime | 0.4 |
FillLight | 8 |
Firmware | 1.1.6 |
Flash | Off, Did not fire |
FlashCompensation | 0 |
FNumber | 2.8 |
FocalLength | 135.0 mm |
FocalLength35efl | 135.0 mm (35 mm equivalent: 134.8 mm) |
Format | image/jpeg |
FOV | 15.2 deg |
GrainAmount | 0 |
GreenHue | 0 |
GreenSaturation | +33 |
HasCrop | True |
HasSettings | True |
HighlightRecovery | 99 |
HueAdjustmentAqua | 0 |
HueAdjustmentBlue | 0 |
HueAdjustmentGreen | +20 |
HueAdjustmentMagenta | 0 |
HueAdjustmentOrange | -70 |
HueAdjustmentPurple | -68 |
HueAdjustmentRed | +5 |
HueAdjustmentYellow | -100 |
HyperfocalDistance | 216.34 m |
ICCProfileName | sRGB IEC61966-2.1 |
ImageHeight (1) | 3273 |
ImageHeight | 533 |
ImageNumber | 46852 |
ImageSize | 800x533 |
ImageWidth (1) | 4909 |
ImageWidth | 800 |
ISO | 400 |
Lens | 135.0 mm |
LensID (1) | 174 |
LensID | Canon EF 135mm f/2L USM |
LensInfo | 135mm f/? |
LensManualDistortionAmount | 0 |
LensModel | 135.0 mm |
LensProfileEnable | 0 |
LensProfileSetup | LensDefaults |
LightValue | 2.3 |
LuminanceAdjustmentAqua | -95 |
LuminanceAdjustmentBlue | +27 |
LuminanceAdjustmentGreen | -70 |
LuminanceAdjustmentMagenta | +7 |
LuminanceAdjustmentOrange | -7 |
LuminanceAdjustmentPurple | +9 |
LuminanceAdjustmentRed | -5 |
LuminanceAdjustmentYellow | +2 |
LuminanceNoiseReductionContrast | 0 |
LuminanceNoiseReductionDetail | 50 |
LuminanceSmoothing | 26 |
Make | Canon |
Marked | True |
MaxApertureValue | 2.0 |
Megapixels | 0.426 |
MeteringMode | Center-weighted average |
Model | Canon EOS-1Ds Mark II |
ModifyDate (1) | 2011:10:02 18:20:31+02:00 |
ModifyDate | 2011:10:02 18:20:31 |
Orientation | Horizontal (normal) |
ParametricDarks | +14 |
ParametricHighlights | -68 |
ParametricHighlightSplit | 75 |
ParametricLights | -47 |
ParametricMidtoneSplit | 50 |
ParametricShadows | 0 |
ParametricShadowSplit | 25 |
PerspectiveHorizontal | 0 |
PerspectiveRotate | 0.0 |
PerspectiveScale | 100 |
PerspectiveVertical | 0 |
PhotometricInterpretation | RGB |
PostCropVignetteAmount | 0 |
ProcessVersion | 5.7 |
ProfileDescription | sRGB IEC61966-2.1 |
RedHue | -1 |
RedSaturation | +8 |
Rights | Stian Furuseth |
Saturation | 0 |
SaturationAdjustmentAqua | -100 |
SaturationAdjustmentBlue | -100 |
SaturationAdjustmentGreen | -2 |
SaturationAdjustmentMagenta | -100 |
SaturationAdjustmentOrange | -5 |
SaturationAdjustmentPurple | -100 |
SaturationAdjustmentRed | +11 |
SaturationAdjustmentYellow | -2 |
ScaleFactor35efl | 1.0 |
SceneCaptureType | Standard |
SensitivityType | Unknown |
SerialNumber | 335873 |
Shadows | 0 |
ShadowTint | 0 |
SharpenDetail | 9 |
SharpenEdgeMasking | 3 |
SharpenRadius | +0.8 |
Sharpness | 69 |
ShutterSpeed | 0.4 |
ShutterSpeedValue | 0.4 |
Software | Adobe Photoshop CS5 Windows |
SplitToningBalance | 0 |
SplitToningHighlightHue | 228 |
SplitToningHighlightSaturation | 53 |
SplitToningShadowHue | 48 |
SplitToningShadowSaturation | 28 |
Tint | +57 |
ToneCurve | 0, 0, 32, 22, 64, 56, 128, 128, 192, 196, 255, 255 |
ToneCurveName | Medium Contrast |
URL | www.stianfuruseth.no |
URL_List | |
Version | 6.3 |
Vibrance | 0 |
VignetteAmount | -1 |
VignetteMidpoint | 44 |
WebStatement | www.stianfuruseth.no |
WhiteBalance (1) | Custom |
WhiteBalance | Manual |