Felt | Verdi |
AlreadyApplied | True |
Aperture | 4.5 |
ApertureValue | 4.5 |
BitsPerSample (1) | 8 8 8 |
BitsPerSample | 8 |
BlueHue | 0 |
BlueSaturation | 0 |
Brightness | -7 |
CameraProfile | Adobe Standard |
ChromaticAberrationB | 0 |
ChromaticAberrationR | 0 |
CircleOfConfusion | 0.019 mm |
Clarity | -74 |
ColorComponents | 3 |
ColorMode | RGB |
ColorNoiseReduction | 25 |
ColorSpace | Uncalibrated |
ColorTemperature | 7476 |
Contrast | +100 |
ConvertToGrayscale | True |
CreateDate (1) | 2011:11:02 09:10:11.61+01:00 |
CreateDate | 2011:11:02 09:10:11 |
CreatorTool | Adobe Photoshop CS5 Windows |
CropAngle | -0.647606 |
CropBottom | 0.967284 |
CropHeight | 2374 |
CropLeft | 0.185211 |
CropRight | 0.830115 |
CropTop | 0.228719 |
CropUnit | pixels |
CropWidth | 3038 |
CustomRendered | Normal |
DateCreated (1) | 2011:11:02 |
DateCreated | 2011:11:02 09:10:11.061 |
DateTimeOriginal | 2011:11:02 09:10:11 |
Defringe | 0 |
DOF | inf (2.48 m - inf) |
ExifImageHeight | 2563 |
ExifImageWidth | 3227 |
Exposure | 0.00 |
ExposureCompensation | 0 |
ExposureMode | Manual |
ExposureProgram | Manual |
ExposureTime | 1/25 |
FillLight | 0 |
Firmware | 1.0.7 |
Flash | Off, Did not fire |
FlashCompensation | 0 |
FNumber | 4.5 |
FocalLength | 17.0 mm |
FocalLength35efl | 17.0 mm (35 mm equivalent: 26.9 mm) |
Format | image/jpeg |
FOV | 67.5 deg |
GrayMixerAqua | -18 |
GrayMixerBlue | +64 |
GrayMixerGreen | +36 |
GrayMixerMagenta | +4 |
GrayMixerOrange | -26 |
GrayMixerPurple | +17 |
GrayMixerRed | -11 |
GrayMixerYellow | -31 |
GreenHue | 0 |
GreenSaturation | 0 |
HasCrop | True |
HasSettings | True |
HighlightRecovery | 0 |
HyperfocalDistance | 3.39 m |
ICCProfileName | Adobe RGB (1998) |
ImageHeight (1) | 2374 |
ImageHeight | 2563 |
ImageNumber | 0 |
ImageSize | 3227x2563 |
ImageWidth (1) | 3038 |
ImageWidth | 3227 |
ISO | 320 |
Keywords | grener, høst, trær, tåke |
Lens | EF-S17-55mm f/2.8 IS USM |
LensID (1) | 240 |
LensID | Canon EF-S 17-55mm f/2.8 IS USM |
LensInfo | 17-55mm f/? |
LightValue | 7.3 |
LuminanceSmoothing | 51 |
Make | Canon |
MaxApertureValue | 2.8 |
Megapixels | 8.3 |
MeteringMode | Spot |
Model | Canon EOS 50D |
ModifyDate (1) | 2011:11:02 22:39:18+01:00 |
ModifyDate | 2011:11:02 22:39:18 |
Orientation | Horizontal (normal) |
PaintCorrectionActive | true |
PaintCorrectionAmount | 1.000000 |
PaintCorrectionBrightness (1) | 0.100000 |
PaintCorrectionBrightness | -0.050000 |
PaintCorrectionClarity | 0.000000 |
PaintCorrectionContrast | 0.000000 |
PaintCorrectionExposure (1) | 0.125000 |
PaintCorrectionExposure (2) | 0.800000 |
PaintCorrectionExposure (3) | -0.125000 |
PaintCorrectionExposure | -0.025000 |
PaintCorrectionHue | 230.000000 |
PaintCorrectionMaskCenterWeight (1) | 0.623209 |
PaintCorrectionMaskCenterWeight (3) | 0.153702 |
PaintCorrectionMaskCenterWeight | 0.419401 |
PaintCorrectionMaskFlow | 1.000000 |
PaintCorrectionMaskRadius (1) | 0.079195 |
PaintCorrectionMaskRadius (2) | 0.128378 |
PaintCorrectionMaskRadius | 0.086401 |
PaintCorrectionMaskValue | 0.450000 |
PaintCorrectionMaskWhat | Mask/Paint |
PaintCorrectionSaturation | 0.000000 |
PaintCorrectionSharpness | 0.000000 |
PaintCorrectionWhat | Correction |
ParametricDarks | -62 |
ParametricHighlights | +83 |
ParametricHighlightSplit | 75 |
ParametricLights | +12 |
ParametricMidtoneSplit | 50 |
ParametricShadows | -40 |
ParametricShadowSplit | 25 |
PhotometricInterpretation | RGB |
PostCropVignetteAmount | -50 |
PostCropVignetteFeather | 100 |
PostCropVignetteMidpoint | 18 |
PostCropVignetteRoundness | 0 |
ProfileDescription | Adobe RGB (1998) |
Rating | 5 |
RedHue | 0 |
RedSaturation | 0 |
ScaleFactor35efl | 1.6 |
SceneCaptureType | Standard |
SerialNumber | 2230706872 |
Shadows | 5 |
ShadowTint | 0 |
SharpenDetail | 25 |
SharpenEdgeMasking | 0 |
SharpenRadius | +1.0 |
Sharpness | 25 |
ShutterSpeed | 1/25 |
ShutterSpeedValue | 1/25 |
Software | Adobe Photoshop CS5 Windows |
SplitToningBalance | 0 |
SplitToningHighlightHue | 0 |
SplitToningHighlightSaturation | 0 |
SplitToningShadowHue | 0 |
SplitToningShadowSaturation | 0 |
Subject | grener, høst, trær, tåke |
SubjectDistance | 9.22 m |
Tint | +40 |
ToneCurve | 0, 0, 32, 22, 64, 56, 128, 128, 192, 196, 255, 255 |
ToneCurveName | Medium Contrast |
URL_List | |
Version | 5.7 |
VignetteAmount | 0 |
WhiteBalance (1) | Custom |
WhiteBalance | Auto |