Felt | Verdi |
AlreadyApplied | True |
Aperture | 1.4 |
ApertureValue | 1.4 |
Artist | stian furuseth |
BitsPerSample (1) | 8 8 8 |
BitsPerSample | 8 |
BlueHue | 0 |
BlueSaturation | -6 |
Brightness | +33 |
By-line | stian furuseth |
CameraProfile | Adobe Standard |
ChromaticAberrationB | 0 |
ChromaticAberrationR | 0 |
CircleOfConfusion | 0.030 mm |
Clarity | +15 |
ColorComponents | 3 |
ColorMode | RGB |
ColorNoiseReduction | 25 |
ColorNoiseReductionDetail | 50 |
ColorSpace | sRGB |
ColorTemperature | 4529 |
Contrast | +25 |
ConvertToGrayscale | False |
Copyright | Stian Furuseth |
CopyrightFlag | True |
CopyrightNotice | Stian Furuseth |
CreateDate (1) | 2011:12:07 20:14:19+01:00 |
CreateDate | 2011:12:07 20:14:19 |
Creator | stian furuseth |
CreatorTool | Adobe Photoshop CS5 Windows |
CustomRendered | Normal |
DateCreated (1) | 2011:12:07 |
DateCreated | 2011:12:07 20:14:19 |
DateTimeOriginal | 2011:12:07 20:14:19 |
Defringe | 0 |
ExifImageHeight | 533 |
ExifImageWidth | 800 |
Exposure | 0.00 |
ExposureCompensation | 0 |
ExposureMode | Manual |
ExposureProgram | Manual |
ExposureTime | 1/250 |
FillLight | 10 |
Firmware | 1.1.6 |
Flash | Off, Did not fire |
FlashCompensation | 0 |
FNumber | 1.4 |
FocalLength | 50.0 mm |
FocalLength35efl | 50.0 mm (35 mm equivalent: 49.9 mm) |
Format | image/jpeg |
FOV | 39.6 deg |
GrainAmount | 0 |
GreenHue | -8 |
GreenSaturation | -13 |
HasCrop | False |
HasSettings | True |
HighlightRecovery | 62 |
HueAdjustmentAqua | 0 |
HueAdjustmentBlue | 0 |
HueAdjustmentGreen | 0 |
HueAdjustmentMagenta | 0 |
HueAdjustmentOrange | 0 |
HueAdjustmentPurple | 0 |
HueAdjustmentRed | 0 |
HueAdjustmentYellow | 0 |
HyperfocalDistance | 59.35 m |
ICCProfileName | sRGB IEC61966-2.1 |
ImageHeight (1) | 3328 |
ImageHeight | 533 |
ImageNumber | 49747 |
ImageSize | 800x533 |
ImageWidth (1) | 4992 |
ImageWidth | 800 |
ISO | 100 |
Lens | 50.0 mm |
LensID (1) | 169 |
LensID | Sigma 50mm f/1.4 EX DG HSM |
LensInfo | 50mm f/? |
LensManualDistortionAmount | 0 |
LensModel | 50.0 mm |
LensProfileChromaticAberrationScale | 100 |
LensProfileDistortionScale | 100 |
LensProfileEnable | 0 |
LensProfileFilename | Canon EOS 5D Mark II (Canon EF 50mm f1.2L USM) - RAW.lcp |
LensProfileName | Adobe (Canon EF 50mm f/1.2L USM) |
LensProfileSetup | Custom |
LensProfileVignettingScale | 100 |
LightValue | 8.9 |
LuminanceAdjustmentAqua | 0 |
LuminanceAdjustmentBlue | 0 |
LuminanceAdjustmentGreen | 0 |
LuminanceAdjustmentMagenta | 0 |
LuminanceAdjustmentOrange | 0 |
LuminanceAdjustmentPurple | 0 |
LuminanceAdjustmentRed | 0 |
LuminanceAdjustmentYellow | 0 |
LuminanceNoiseReductionContrast | 0 |
LuminanceNoiseReductionDetail | 50 |
LuminanceSmoothing | 28 |
Make | Canon |
Marked | True |
MaxApertureValue | 1.4 |
Megapixels | 0.426 |
MeteringMode | Multi-segment |
Model | Canon EOS-1Ds Mark II |
ModifyDate (1) | 2012:02:15 23:58:30+01:00 |
ModifyDate | 2012:02:15 23:58:30 |
Orientation | Horizontal (normal) |
ParametricDarks | +14 |
ParametricHighlights | -56 |
ParametricHighlightSplit | 75 |
ParametricLights | -26 |
ParametricMidtoneSplit | 50 |
ParametricShadows | 0 |
ParametricShadowSplit | 25 |
PerspectiveHorizontal | 0 |
PerspectiveRotate | 0.0 |
PerspectiveScale | 100 |
PerspectiveVertical | 0 |
PhotometricInterpretation | RGB |
PlanarConfiguration | Chunky |
PostCropVignetteAmount | 0 |
ProcessVersion | 5.7 |
ProfileDescription | sRGB IEC61966-2.1 |
RedHue | +13 |
RedSaturation | -63 |
Rights | Stian Furuseth |
Saturation | 0 |
SaturationAdjustmentAqua | 0 |
SaturationAdjustmentBlue | 0 |
SaturationAdjustmentGreen | 0 |
SaturationAdjustmentMagenta | 0 |
SaturationAdjustmentOrange | 0 |
SaturationAdjustmentPurple | 0 |
SaturationAdjustmentRed | 0 |
SaturationAdjustmentYellow | 0 |
ScaleFactor35efl | 1.0 |
SceneCaptureType | Standard |
SensitivityType | Unknown |
SerialNumber | 335873 |
Shadows | 0 |
ShadowTint | 0 |
SharpenDetail | 20 |
SharpenEdgeMasking | 11 |
SharpenRadius | +1.0 |
Sharpness | 86 |
ShutterSpeed | 1/250 |
ShutterSpeedValue | 1/250 |
Software | Adobe Photoshop CS5 Windows |
SplitToningBalance | 0 |
SplitToningHighlightHue | 211 |
SplitToningHighlightSaturation | 25 |
SplitToningShadowHue | 37 |
SplitToningShadowSaturation | 17 |
Tint | +4 |
ToneCurve | 0, 0, 32, 22, 64, 56, 128, 128, 192, 196, 255, 255 |
ToneCurveName | Medium Contrast |
URL | www.stianfuruseth.no |
URL_List | |
Version | 6.3 |
Vibrance | 0 |
VignetteAmount | -49 |
VignetteMidpoint | 20 |
WebStatement | www.stianfuruseth.no |
WhiteBalance (1) | Custom |
WhiteBalance | Manual |