Felt | Verdi |
AlreadyApplied | True |
Aperture | 6.3 |
ApertureValue | 6.3 |
BitsPerSample (1) | 8 8 8 |
BitsPerSample | 8 |
BlackClip | 0.332900 |
BlueHue | 0 |
BlueSaturation | 0 |
Brightness | 0 |
CameraProfile | Embedded |
ChromaticAberrationB | 0 |
ChromaticAberrationR | 0 |
Clarity | +56 |
ColorComponents | 3 |
ColorMode | RGB |
ColorNoiseReduction | 0 |
ColorSaturation | 52.0 |
ColorSpace | Uncalibrated |
ColorTemperature | 1.3 |
Contrast | +1 |
ConvertToGrayscale | False |
CreateDate (1) | 2012:03:16 16:52:09+01:00 |
CreateDate | 2012:03:16 16:52:09 |
CreatorTool | Adobe Photoshop CS5.1 Windows |
DateCreated (1) | 2012:03:16 |
DateCreated | 2012:03:16 16:52:09 |
DateTimeOriginal | 2012:03:16 16:52:09 |
Defringe | 0 |
ExifImageHeight | 1202 |
ExifImageWidth | 800 |
Exposure | 0.00 |
ExposureTime | 1/320 |
FillLight | 14 |
FNumber | 6.3 |
FocalLength | 18.0 mm |
FocalLength35efl | 18.0 mm |
Format | image/jpeg |
Gamma | 1.32 |
GrainAmount | 0 |
GreenHue | 0 |
GreenSaturation | 0 |
HasCrop | False |
HasSettings | True |
HighlightRecovery | 78 |
HighlightsSmoothing | 0.0 |
HueAdjustmentAqua | 0 |
HueAdjustmentBlue | 0 |
HueAdjustmentGreen | 0 |
HueAdjustmentMagenta | 0 |
HueAdjustmentOrange | 0 |
HueAdjustmentPurple | 0 |
HueAdjustmentRed | 0 |
HueAdjustmentYellow | 0 |
ICCProfileName | Adobe RGB (1998) |
ImageHeight (1) | 3392 |
ImageHeight | 1202 |
ImageSize | 800x1202 |
ImageWidth (1) | 2257 |
ImageWidth | 800 |
IncrementalTemperature | 0 |
IncrementalTint | +6 |
ISO | 1600 |
IsPano360 | No |
LensManualDistortionAmount | 0 |
LensProfileChromaticAberrationScale | 100 |
LensProfileDistortionScale | 92 |
LensProfileEnable | 1 |
LensProfileFilename | Canon EOS-1Ds Mark III (Canon EF 70-300mm f4-5.6 IS USM).lcp |
LensProfileName | Adobe (Canon EF 70-300mm f/4-5.6 IS USM) |
LensProfileSetup | Custom |
LensProfileVignettingScale | 100 |
LightValue | 9.6 |
LuminanceAdjustmentAqua | -14 |
LuminanceAdjustmentBlue | -57 |
LuminanceAdjustmentGreen | -100 |
LuminanceAdjustmentMagenta | 0 |
LuminanceAdjustmentOrange | -11 |
LuminanceAdjustmentPurple | -7 |
LuminanceAdjustmentRed | -50 |
LuminanceAdjustmentYellow | +14 |
LuminanceNoiseReductionContrast | 0 |
LuminanceNoiseReductionDetail | 13 |
LuminanceSmoothing | 70 |
Luminosity | 6.5 |
Megapixels | 0.962 |
Method | Details Enhancer |
Microcontrast | 10.0 |
Microsmoothing | 8.3 |
Model | Canon EOS 350D DIGITAL |
ModifyDate (1) | 2012:03:16 18:50:46+01:00 |
ModifyDate | 2012:03:16 18:50:46 |
Orientation | Horizontal (normal) |
ParametricDarks | -5 |
ParametricHighlights | -3 |
ParametricHighlightSplit | 75 |
ParametricLights | -7 |
ParametricMidtoneSplit | 50 |
ParametricShadows | -5 |
ParametricShadowSplit | 25 |
PerspectiveHorizontal | 0 |
PerspectiveRotate | 0.0 |
PerspectiveScale | 100 |
PerspectiveVertical | 0 |
PhotometricInterpretation | RGB |
PostCropVignetteAmount | -17 |
PostCropVignetteFeather | 37 |
PostCropVignetteHighlightContrast | 72 |
PostCropVignetteMidpoint | 43 |
PostCropVignetteRoundness | +33 |
PostCropVignetteStyle | 1 |
ProcessVersion | 5.7 |
ProfileDescription | Adobe RGB (1998) |
Rating | 0 |
RawFileName | _MG_0503_4_5_tonemapped.jpg |
RedHue | 0 |
RedSaturation | 0 |
Saturation | +10 |
SaturationAdjustmentAqua | 0 |
SaturationAdjustmentBlue | 0 |
SaturationAdjustmentGreen | -55 |
SaturationAdjustmentMagenta | 0 |
SaturationAdjustmentOrange | -30 |
SaturationAdjustmentPurple | 0 |
SaturationAdjustmentRed | 0 |
SaturationAdjustmentYellow | -18 |
SaturationHighlights | 0.9 |
SaturationShadows | -1.8 |
SensitivityType | Unknown |
Shadows | 4 |
ShadowsClipping | 12.0 |
ShadowsSmoothing | 14.0 |
ShadowTint | 0 |
SharpenDetail | 25 |
SharpenEdgeMasking | 0 |
SharpenRadius | +1.7 |
Sharpness | 105 |
ShutterSpeed | 1/320 |
ShutterSpeedValue | 1/320 |
Smoothing | Medium |
SmoothingMode | Light |
Software | Adobe Photoshop CS5.1 Windows |
SplitToningBalance | 0 |
SplitToningHighlightHue | 0 |
SplitToningHighlightSaturation | 0 |
SplitToningShadowHue | 0 |
SplitToningShadowSaturation | 0 |
Strength | 74.0 |
ToneCurve | 0, 0, 255, 255 |
ToneCurveName | Linear |
URL_List | |
Version (1) | 4.1 |
Version | 6.3 |
Vibrance | +1 |
VignetteAmount | 0 |
WhiteBalance | Custom |
WhiteClip | 1.833700 |