Felt | Verdi |
AlreadyApplied | True |
Aperture | 4.0 |
ApertureValue | 4.0 |
ApproximateFocusDistance | 32.4 |
Artist | Halvor Roe |
AutoLateralCA | 0 |
BitsPerSample | 8 |
Blacks2012 | 0 |
BlueHue | 0 |
BlueSaturation | 0 |
Brightness | +50 |
By-line | Halvor Roe |
CameraProfile | Adobe Standard |
CircleOfConfusion | 0.019 mm |
Clarity | 0 |
Clarity2012 | +7 |
ColorComponents | 3 |
ColorNoiseReduction | 25 |
ColorNoiseReductionDetail | 50 |
ColorTemperature | 5850 |
Contrast | +25 |
Contrast2012 | +5 |
ConvertToGrayscale | False |
Copyright | Halvor Roe |
CopyrightFlag | True |
CopyrightNotice | Halvor Roe |
CreateDate (1) | 2012:04:21 11:29:37.00 |
CreateDate | 2012:04:21 11:29:37 |
Creator | Halvor Roe |
CreatorAddress | Nordlisvingen 13 |
CreatorCity | Larvik |
CreatorCountry | Norge |
CreatorPostalCode | 3271 |
CreatorTool | Adobe Photoshop Lightroom 4.0 (Windows) |
CreatorWorkEmail | halroe@online.no |
CreatorWorkTelephone | +4791139761 |
CropAngle | 0 |
CropBottom | 0.909699 |
CropConstrainToWarp | 0 |
CropHeight | 3144 |
CropLeft | 0 |
CropRight | 0.909699 |
CropTop | 0 |
CropUnit | pixels |
CropWidth | 4716 |
CustomRendered | Normal |
DateCreated (1) | 2012:04:21 |
DateCreated | 2012:04:21 11:29:37.00 |
DateTimeOriginal | 2012:04:21 11:29:37 |
Defringe | 0 |
DOF | 0.63 m (32.09 - 32.72 m) |
Exposure | 0.00 |
Exposure2012 | 0.00 |
ExposureCompensation | +1 |
ExposureMode | Auto |
ExposureProgram | Aperture-priority AE |
ExposureTime | 1/6400 |
FillLight | 0 |
Firmware | 1.2.2 |
Flash | Off, Did not fire |
FlashCompensation | 0 |
FNumber | 4.0 |
FocalLength | 500.0 mm |
FocalLength35efl | 500.0 mm (35 mm equivalent: 785.2 mm) |
Format | image/jpeg |
FOV | 2.6 deg |
GrainAmount | 0 |
GreenHue | 0 |
GreenSaturation | 0 |
HasCrop | True |
HasSettings | True |
HighlightRecovery | 0 |
Highlights2012 | 0 |
HueAdjustmentAqua | 0 |
HueAdjustmentBlue | 0 |
HueAdjustmentGreen | 0 |
HueAdjustmentMagenta | 0 |
HueAdjustmentOrange | 0 |
HueAdjustmentPurple | 0 |
HueAdjustmentRed | 0 |
HueAdjustmentYellow | 0 |
HyperfocalDistance | 3266.49 m |
ImageHeight | 3144 |
ImageNumber | 0 |
ImageSize | 4716x3144 |
ImageWidth | 4716 |
ISO | 500 |
Keywords | Fugler, Gråmåke, Larvik, Måker, Mølen, Norge |
Lens | EF500mm f/4L IS USM |
LensID (1) | 143 |
LensID | Canon EF 500mm f/4L IS USM |
LensInfo | 500mm f/? |
LensManualDistortionAmount | 0 |
LensModel | EF500mm f/4L IS USM |
LensProfileEnable | 0 |
LensProfileSetup | LensDefaults |
LightValue | 14.3 |
LuminanceAdjustmentAqua | 0 |
LuminanceAdjustmentBlue | 0 |
LuminanceAdjustmentGreen | 0 |
LuminanceAdjustmentMagenta | 0 |
LuminanceAdjustmentOrange | 0 |
LuminanceAdjustmentPurple | 0 |
LuminanceAdjustmentRed | 0 |
LuminanceAdjustmentYellow | 0 |
LuminanceSmoothing | 0 |
Make | Canon |
Marked | True |
MaxApertureValue | 4.0 |
Megapixels | 14.8 |
MeteringMode | Multi-segment |
Model | Canon EOS 7D |
ModifyDate (1) | 2012:04:22 13:50:22+02:00 |
ModifyDate | 2012:04:22 13:50:22 |
ParametricDarks | 0 |
ParametricHighlights | -33 |
ParametricHighlightSplit | 75 |
ParametricLights | 0 |
ParametricMidtoneSplit | 50 |
ParametricShadows | 0 |
ParametricShadowSplit | 25 |
PerspectiveHorizontal | 0 |
PerspectiveRotate | 0.0 |
PerspectiveScale | 100 |
PerspectiveVertical | 0 |
PostCropVignetteAmount | 0 |
ProcessVersion | 6.7 |
ProfileDescription | sRGB IEC61966-2.1 |
Rating | 5 |
RedHue | 0 |
RedSaturation | 0 |
Rights | Halvor Roe |
Saturation | +34 |
SaturationAdjustmentAqua | 0 |
SaturationAdjustmentBlue | 0 |
SaturationAdjustmentGreen | 0 |
SaturationAdjustmentMagenta | 0 |
SaturationAdjustmentOrange | 0 |
SaturationAdjustmentPurple | 0 |
SaturationAdjustmentRed | 0 |
SaturationAdjustmentYellow | 0 |
ScaleFactor35efl | 1.6 |
SceneCaptureType | Standard |
SerialNumber | 1580813267 |
Shadows | 5 |
Shadows2012 | 0 |
ShadowTint | 0 |
SharpenDetail | 35 |
SharpenEdgeMasking | 0 |
SharpenRadius | +0.9 |
Sharpness | 46 |
ShutterSpeed | 1/6400 |
ShutterSpeedValue | 1/6400 |
Software | Adobe Photoshop Lightroom 4.0 (Windows) |
SplitToningBalance | 0 |
SplitToningHighlightHue | 0 |
SplitToningHighlightSaturation | 0 |
SplitToningShadowHue | 0 |
SplitToningShadowSaturation | 0 |
Subject | Fugler, Gråmåke, Larvik, Måker, Mølen, Norge |
Tint | +9 |
ToneCurve | 0, 0, 255, 255 |
ToneCurveBlue | 0, 0, 255, 255 |
ToneCurveGreen | 0, 0, 255, 255 |
ToneCurveName | Linear |
ToneCurveName2012 | Linear |
ToneCurvePV2012 | 0, 0, 255, 255 |
ToneCurvePV2012Blue | 0, 0, 255, 255 |
ToneCurvePV2012Green | 0, 0, 255, 255 |
ToneCurvePV2012Red | 0, 0, 255, 255 |
ToneCurveRed | 0, 0, 255, 255 |
Version | 7.0 |
Vibrance | +10 |
VignetteAmount | 0 |
WhiteBalance (1) | As Shot |
WhiteBalance | Auto |
Whites2012 | +17 |