Felt | Verdi |
AlreadyApplied | True |
Aperture | 8.0 |
ApertureValue | 8.0 |
BitsPerSample | 8 |
BlueHue | +6 |
BlueSaturation | +33 |
Brightness | +50 |
CameraProfile | Adobe Standard |
ChromaticAberrationB | 0 |
ChromaticAberrationR | 0 |
CircleOfConfusion | 0.019 mm |
Clarity | +100 |
ColorComponents | 3 |
ColorMode | RGB |
ColorNoiseReduction | 25 |
ColorNoiseReductionDetail | 50 |
ColorSpace | sRGB |
ColorTemperature | 6650 |
Contrast | +31 |
ConvertToGrayscale | False |
CreateDate (1) | 2013:09:14 13:19:55.46+02:00 |
CreateDate | 2013:09:14 13:19:55 |
CreatorTool | Adobe Photoshop Lightroom |
CropAngle | 0 |
CropBottom | 0.939655 |
CropConstrainToWarp | 0 |
CropHeight | 2977 |
CropLeft | 0.032567 |
CropRight | 1 |
CropTop | 0 |
CropUnit | pixels |
CropWidth | 4597 |
CustomRendered | Normal |
DateTimeOriginal (1) | 2013:09:14 13:19:55.46+02:00 |
DateTimeOriginal | 2013:09:14 13:19:55 |
Defringe | 0 |
DOF | inf (0.42 m - inf) |
ExifImageHeight | 1212 |
ExifImageWidth | 3000 |
Exposure | -0.60 |
ExposureCompensation | 0 |
ExposureMode | Auto |
ExposureProgram | Aperture-priority AE |
ExposureTime | 1/500 |
FillLight | 15 |
Firmware | 1.0.3 |
Flash | Off, Did not fire |
FlashCompensation | 0 |
FlashFired | False |
FlashFunction | False |
FlashMode | Off |
FlashRedEyeMode | False |
FlashReturn | No return detection |
FNumber | 8.0 |
FocalLength | 10.0 mm |
FocalLength35efl | 10.0 mm (35 mm equivalent: 15.8 mm) |
Format | image/jpeg |
FOV | 97.3 deg |
GrainAmount | 0 |
GreenHue | +10 |
GreenSaturation | +22 |
HasCrop | True |
HasSettings | True |
HighlightRecovery | 100 |
HueAdjustmentAqua | 0 |
HueAdjustmentBlue | 0 |
HueAdjustmentGreen | 0 |
HueAdjustmentMagenta | 0 |
HueAdjustmentOrange | 0 |
HueAdjustmentPurple | 0 |
HueAdjustmentRed | -11 |
HueAdjustmentYellow | +25 |
HyperfocalDistance | 0.66 m |
ICCProfileName | sRGB IEC61966-2.1 |
ImageHeight (1) | 2977 |
ImageHeight | 1212 |
ImageNumber | 0 |
ImageSize | 3000x1212 |
ImageWidth (1) | 4597 |
ImageWidth | 3000 |
ISO | 500 |
Lens | 10-20mm |
LensID (1) | 152 |
LensID | Sigma 10-20mm f/4-5.6 |
LensInfo | 10-20mm f/? |
LensManualDistortionAmount | 0 |
LensProfileEnable | 0 |
LensProfileSetup | LensDefaults |
LightValue | 12.6 |
LuminanceAdjustmentAqua | 0 |
LuminanceAdjustmentBlue | 0 |
LuminanceAdjustmentGreen | 0 |
LuminanceAdjustmentMagenta | 0 |
LuminanceAdjustmentOrange | 0 |
LuminanceAdjustmentPurple | 0 |
LuminanceAdjustmentRed | 0 |
LuminanceAdjustmentYellow | 0 |
LuminanceSmoothing | 0 |
Make | Canon |
MaxApertureValue | 4.0 |
Megapixels | 3.6 |
MeteringMode | Multi-segment |
Model | Canon EOS 50D |
ModifyDate (1) | 2013:09:17 20:24:29+02:00 |
ModifyDate | 2013:09:17 20:24:29 |
Orientation | Horizontal (normal) |
ParametricDarks | +3 |
ParametricHighlights | +39 |
ParametricHighlightSplit | 75 |
ParametricLights | +16 |
ParametricMidtoneSplit | 50 |
ParametricShadows | +1 |
ParametricShadowSplit | 25 |
PerspectiveHorizontal | 0 |
PerspectiveRotate | 0.0 |
PerspectiveScale | 100 |
PerspectiveVertical | 0 |
PostCropVignetteAmount | 0 |
ProcessVersion | 5.7 |
ProfileDescription | sRGB IEC61966-2.1 |
RedHue | +13 |
RedSaturation | -1 |
Saturation | -3 |
SaturationAdjustmentAqua | 0 |
SaturationAdjustmentBlue | 0 |
SaturationAdjustmentGreen | 0 |
SaturationAdjustmentMagenta | 0 |
SaturationAdjustmentOrange | 0 |
SaturationAdjustmentPurple | 0 |
SaturationAdjustmentRed | 0 |
SaturationAdjustmentYellow | 0 |
ScaleFactor35efl | 1.6 |
SceneCaptureType | Standard |
SerialNumber | 430353747 |
Shadows | 24 |
ShadowTint | 0 |
SharpenDetail | 25 |
SharpenEdgeMasking | 0 |
SharpenRadius | +1.0 |
Sharpness | 25 |
ShutterSpeed | 1/500 |
ShutterSpeedValue | 1/500 |
Software | Adobe Photoshop Elements 10.0 Windows |
SplitToningBalance | 0 |
SplitToningHighlightHue | 0 |
SplitToningHighlightSaturation | 0 |
SplitToningShadowHue | 0 |
SplitToningShadowSaturation | 0 |
SubjectDistance | 1.11 m |
Tint | +19 |
ToneCurve | 0, 0, 32, 22, 64, 56, 128, 128, 192, 196, 255, 255 |
ToneCurveName | Medium Contrast |
URL_List | |
Version | 6.1 |
Vibrance | +49 |
VignetteAmount | 0 |
WhiteBalance (2) | As Shot |
WhiteBalance | Manual |